{
 "currentVersion": 10.91,
 "serviceDescription": "Taz_AlosDEM_tif",
 "name": "Taz_AlosDEM_tif",
 "description": "",
 "extent": {
  "xmin": 471148.8519,
  "ymin": 7488788.0021,
  "xmax": 606738.545,
  "ymax": 7652561.437,
  "spatialReference": {
   "wkid": 32643,
   "latestWkid": 32643
  }
 },
 "initialExtent": {
  "xmin": 471148.8519,
  "ymin": 7488788.0021,
  "xmax": 606738.545,
  "ymax": 7652561.437,
  "spatialReference": {
   "wkid": 32643,
   "latestWkid": 32643
  }
 },
 "fullExtent": {
  "xmin": 471148.8519,
  "ymin": 7488788.0021,
  "xmax": 606738.545,
  "ymax": 7652561.437,
  "spatialReference": {
   "wkid": 32643,
   "latestWkid": 32643
  }
 },
 "hasMultidimensions": false,
 "pixelSizeX": 18.76414241627457,
 "pixelSizeY": 18.764142403757994,
 "datasetFormat": "TIFF",
 "uncompressedSize": 252239200,
 "blockWidth": 7226,
 "blockHeight": 1,
 "compressionType": "DEFLATE",
 "bandNames": [
  "Band_1"
 ],
 "allowCopy": true,
 "allowAnalysis": true,
 "bandCount": 1,
 "noDataValue": "NaN",
 "noDataValues": [
  "NaN"
 ],
 "pixelType": "F32",
 "minPixelSize": 0,
 "maxPixelSize": 0,
 "copyrightText": "",
 "serviceDataType": "esriImageServiceDataTypeGeneric",
 "serviceSourceType": "esriImageServiceSourceTypeDataset",
 "minValues": [
  1
 ],
 "maxValues": [
  109.97633361816
 ],
 "meanValues": [
  28.733574304131
 ],
 "stdvValues": [
  16.804153522855
 ],
 "objectIdField": "",
 "fields": [],
 "capabilities": "Image,Metadata,Mensuration",
 "defaultMosaicMethod": "Center",
 "allowedMosaicMethods": "",
 "sortField": "",
 "sortValue": null,
 "sortAscending": true,
 "mosaicOperator": "First",
 "defaultCompressionQuality": 75,
 "defaultResamplingMethod": "Bilinear",
 "maxImageHeight": 4100,
 "maxImageWidth": 15000,
 "allowRasterFunction": true,
 "rasterFunctionInfos": [
  {
   "name": "None",
   "description": "Преобразовать растр или набор растровых данных в набор растровых данных функции.",
   "help": ""
  },
  {
   "name": "ColorHillshade",
   "description": "ColorHillshade",
   "help": ""
  },
  {
   "name": "Slope",
   "description": "Slope",
   "help": ""
  },
  {
   "name": "TopoPositionIndex",
   "description": "TopoPositionIndex",
   "help": ""
  }
 ],
 "rasterTypeInfos": [
  {
   "name": "Raster Dataset",
   "description": "Supports all ArcGIS Raster Datasets",
   "help": ""
  }
 ],
 "mensurationCapabilities": "Basic",
 "hasHistograms": true,
 "hasColormap": false,
 "hasRasterAttributeTable": false,
 "minScale": 0,
 "maxScale": 0,
 "exportTilesAllowed": false,
 "supportsStatistics": false,
 "supportsAdvancedQueries": false,
 "editFieldsInfo": null,
 "ownershipBasedAccessControlForRasters": null,
 "allowComputeTiePoints": false,
 "useStandardizedQueries": true,
 "advancedQueryCapabilities": {
  "useStandardizedQueries": true,
  "supportsStatistics": false,
  "supportsOrderBy": false,
  "supportsDistinct": false,
  "supportsPagination": false
 },
 "spatialReference": {
  "wkid": 32643,
  "latestWkid": 32643
 }
}
