View In:
ArcGIS JavaScript
ArcGIS Online Map Viewer
ArcGIS Earth
ArcMap
View Footprint In:
ArcGIS Online Map Viewer
Service Description: Taz_AlosDEM_tif
Name: Taz_AlosDEM_tif
Description:
Single Fused Map Cache: false
Extent:
XMin: 471148.8519
YMin: 7488788.0021
XMax: 606738.545
YMax: 7652561.437
Spatial Reference: 32643
(32643)
Initial Extent:
XMin: 471148.8519
YMin: 7488788.0021
XMax: 606738.545
YMax: 7652561.437
Spatial Reference: 32643
(32643)
Full Extent:
XMin: 471148.8519
YMin: 7488788.0021
XMax: 606738.545
YMax: 7652561.437
Spatial Reference: 32643
(32643)
Pixel Size X: 18.76414241627457
Pixel Size Y: 18.764142403757994
Band Count: 1
Pixel Type: F32
RasterFunction Infos: {"rasterFunctionInfos": [
{
"name": "None",
"description": "Преобразовать растр или набор растровых данных в набор растровых данных функции.",
"help": ""
},
{
"name": "ColorHillshade",
"description": "ColorHillshade",
"help": ""
},
{
"name": "Slope",
"description": "Slope",
"help": ""
},
{
"name": "TopoPositionIndex",
"description": "TopoPositionIndex",
"help": ""
}
]}
Mensuration Capabilities: Basic
Has Histograms: true
Has Colormap: false
Has Multi Dimensions : false
Rendering Rule:
Min Scale: 0
Max Scale: 0
Copyright Text:
Service Data Type: esriImageServiceDataTypeGeneric
Min Values: 1
Max Values: 109.97633361816
Mean Values: 28.733574304131
Standard Deviation Values: 16.804153522855
Object ID Field:
Fields:
None
Default Mosaic Method: Center
Allowed Mosaic Methods:
SortField:
SortValue: null
Mosaic Operator: First
Default Compression Quality: 75
Default Resampling Method: Bilinear
Max Record Count: null
Max Image Height: 4100
Max Image Width: 15000
Max Download Image Count: null
Max Mosaic Image Count: null
Allow Raster Function: true
Allow Copy: true
Allow Analysis: true
Allow Compute TiePoints: false
Supports Statistics: false
Supports Advanced Queries: false
Use StandardizedQueries: true
Raster Type Infos:
Name: Raster Dataset
Description: Supports all ArcGIS Raster Datasets
Help:
Has Raster Attribute Table: false
Edit Fields Info: null
Ownership Based AccessControl For Rasters: null
Child Resources:
Info
Histograms
Statistics
Key Properties
Legend
Raster Function Infos
Supported Operations:
Export Image
Identify
Measure
Compute Histograms
Compute Statistics Histograms
Get Samples
Compute Class Statistics
Query Boundary
Compute Pixel Location
Compute Angles
Validate
Project